BEGIN:VCALENDAR
VERSION:2.0
PRODID:-//Svenska Bordtennisförbundet – SBTF - ECPv6.15.20//NONSGML v1.0//EN
CALSCALE:GREGORIAN
METHOD:PUBLISH
X-WR-CALNAME:Svenska Bordtennisförbundet – SBTF
X-ORIGINAL-URL:https://sbtf.se
X-WR-CALDESC:Händelser för Svenska Bordtennisförbundet – SBTF
REFRESH-INTERVAL;VALUE=DURATION:PT1H
X-Robots-Tag:noindex
X-PUBLISHED-TTL:PT1H
BEGIN:VTIMEZONE
TZID:Europe/Stockholm
BEGIN:DAYLIGHT
TZOFFSETFROM:+0100
TZOFFSETTO:+0200
TZNAME:CEST
DTSTART:20250330T010000
END:DAYLIGHT
BEGIN:STANDARD
TZOFFSETFROM:+0200
TZOFFSETTO:+0100
TZNAME:CET
DTSTART:20251026T010000
END:STANDARD
BEGIN:DAYLIGHT
TZOFFSETFROM:+0100
TZOFFSETTO:+0200
TZNAME:CEST
DTSTART:20260329T010000
END:DAYLIGHT
BEGIN:STANDARD
TZOFFSETFROM:+0200
TZOFFSETTO:+0100
TZNAME:CET
DTSTART:20261025T010000
END:STANDARD
BEGIN:DAYLIGHT
TZOFFSETFROM:+0100
TZOFFSETTO:+0200
TZNAME:CEST
DTSTART:20270328T010000
END:DAYLIGHT
BEGIN:STANDARD
TZOFFSETFROM:+0200
TZOFFSETTO:+0100
TZNAME:CET
DTSTART:20271031T010000
END:STANDARD
END:VTIMEZONE
BEGIN:VEVENT
DTSTART;TZID=Europe/Stockholm:20260423T183000
DTEND;TZID=Europe/Stockholm:20260423T210000
DTSTAMP:20260423T104307
CREATED:20260417T095434Z
LAST-MODIFIED:20260417T095434Z
UID:49838-1776969000-1776978000@sbtf.se
SUMMARY:Final Pingisligan Herrar
DESCRIPTION:Finalserien\, Pingisligan by STIGA herrar. \n21/4 klockan 18:30: Söderhamns UIF – Eslövs AI BTK (Idrottshallen\, Söderhamn)\n23/4 klockan 18:30:  Eslövs AI BTK – Söderhamns UIF (Eslövshallen)\n24/4 Eventuell avgörande match i Eslöv klockan 18:30 \nWebbsändning Söderhamn\nWebbsändning Eslöv  \nResultat
URL:https://sbtf.se/kalender/final-pingisligan-herrar-2/
LOCATION:Eslövshallen\, Onsjövägen 3\, Eslöv\, 24134\, Sverige
CATEGORIES:Pingisligan
ATTACH;FMTTYPE=image/png:https://sbtf.se/wp-content/uploads/2025/09/SBTF-Hemsida-83.png
END:VEVENT
BEGIN:VEVENT
DTSTART;TZID=Europe/Stockholm:20260425T090000
DTEND;TZID=Europe/Stockholm:20260426T170000
DTSTAMP:20260423T104307
CREATED:20260323T100224Z
LAST-MODIFIED:20260323T102232Z
UID:48626-1777107600-1777222800@sbtf.se
SUMMARY:Lag-SM
DESCRIPTION:Lag SM för Ungdomar och Veteraner spelas i Eslöv 25-26 april.
URL:https://sbtf.se/kalender/lag-sm/
LOCATION:Eslövshallen\, Onsjövägen 3\, Eslöv\, 24134\, Sverige
CATEGORIES:Mästerskap
ATTACH;FMTTYPE=image/png:https://sbtf.se/wp-content/uploads/2026/03/Lag-SM-2026.png
ORGANIZER;CN="SBTF":MAILTO:info@sbtf.se
END:VEVENT
BEGIN:VEVENT
DTSTART;TZID=Europe/Stockholm:20260509T090000
DTEND;TZID=Europe/Stockholm:20260510T170000
DTSTAMP:20260423T104307
CREATED:20260323T102030Z
LAST-MODIFIED:20260323T102251Z
UID:48629-1778317200-1778432400@sbtf.se
SUMMARY:Parkinson-SM 2026
DESCRIPTION:Parkinson-SM och Alzheimer-SM spelas i år i Karlsborg med Karlsborgs BTK som arrangör. \nMer info hittas här
URL:https://sbtf.se/kalender/parkinson-sm-2026/
LOCATION:Molidens IP\, Flottiljvägen 1\, Karlsborg\, 54630
CATEGORIES:Mästerskap
ATTACH;FMTTYPE=image/png:https://sbtf.se/wp-content/uploads/2026/03/PASM-LOGO.png
ORGANIZER;CN="SBTF":MAILTO:info@sbtf.se
END:VEVENT
BEGIN:VEVENT
DTSTART;TZID=Europe/Stockholm:20260509T090000
DTEND;TZID=Europe/Stockholm:20260510T170000
DTSTAMP:20260423T104307
CREATED:20260324T102511Z
LAST-MODIFIED:20260324T102511Z
UID:48724-1778317200-1778432400@sbtf.se
SUMMARY:Tjejraketen Tour
DESCRIPTION:Tävlingen för bara tjejer spelas i år 9-10 maj i Enköping \nInbjudan och annan information hittas här \n 
URL:https://sbtf.se/kalender/tjejraketen-tour/
LOCATION:Idrottshuset Enköping\, Torggatan 2A\, Enköping\, 74949\, Sweden
CATEGORIES:Ungdom
ATTACH;FMTTYPE=image/png:https://sbtf.se/wp-content/uploads/2026/03/SBTF-Hemsida-4.png
ORGANIZER;CN="SBTF":MAILTO:info@sbtf.se
END:VEVENT
BEGIN:VEVENT
DTSTART;TZID=Europe/Stockholm:20260509T093000
DTEND;TZID=Europe/Stockholm:20260509T180000
DTSTAMP:20260423T104307
CREATED:20260216T070947Z
LAST-MODIFIED:20260216T070947Z
UID:45950-1778319000-1778349600@sbtf.se
SUMMARY:Bordtennistränare Klubb
DESCRIPTION:Ta chansen och anmäl dig till utbildningen Bordtennistränare Klubb. Utbildningen riktar sig till dig som genomgått Svenska Bordtennisförbundets första tränarutbildning Bordtennistränare Bas\, men även till dig som har gått äldre tränarutbildningar och är aktiv tränare idag eller varit aktiv de senaste två åren i en bordtennisklubb. \nSista anmälningsdag: 3 mars 2026 \nAnordnare: Svenska Bordtennisförbundet\nArrangör: Eskilstuna Bordtennisklubb\nUtbildare: Antonio Herrera\nKursansvarig: Eskil Tyrberg \nPris: 1 670 kr \nKurstillfällets träffar:\n4 mars 2026 19:00-20:00\, Digitalt\n8 apr 2026 19:00-21:00\, Digitalt\n9 maj 2026 09:30-18:00\, Fysisk heldag på Verkstadsgatan 5 i Eskilstuna \nLäs mer och anmäl dig här \nBild: Halmstads damlag under Ligacupen Foto: Linda Carlsson/SBTF
URL:https://sbtf.se/kalender/bordtennistranare-klubb/
ATTACH;FMTTYPE=image/png:https://sbtf.se/wp-content/uploads/2026/02/Utbildning.png
END:VEVENT
BEGIN:VEVENT
DTSTART;TZID=Europe/Stockholm:20260514T090000
DTEND;TZID=Europe/Stockholm:20260517T170000
DTSTAMP:20260423T104307
CREATED:20260323T102657Z
LAST-MODIFIED:20260323T102657Z
UID:48634-1778749200-1779037200@sbtf.se
SUMMARY:Ungdoms-SM & Para-JSM
DESCRIPTION:Ungdoms-SM och Para-JSM spelas i Borås 14-17 maj med Mariedals IK som lokal arrangör. \nHär finns mer information
URL:https://sbtf.se/kalender/ungdoms-sm-para-jsm-2/
LOCATION:Boråshallen\, Bockasjögatan 2\, Borås\, 504 30
CATEGORIES:Mästerskap
ATTACH;FMTTYPE=image/png:https://sbtf.se/wp-content/uploads/2026/03/usm-LOGO.png
ORGANIZER;CN="SBTF":MAILTO:info@sbtf.se
END:VEVENT
BEGIN:VEVENT
DTSTART;TZID=Europe/Stockholm:20260521T090000
DTEND;TZID=Europe/Stockholm:20260524T170000
DTSTAMP:20260423T104307
CREATED:20260323T103247Z
LAST-MODIFIED:20260323T104549Z
UID:48638-1779354000-1779642000@sbtf.se
SUMMARY:Veteran-SM
DESCRIPTION:21-24 maj spelas Veteran-SM i Halmstad för alla pingisspelare från 30 år \nMer information hittas här
URL:https://sbtf.se/kalender/veteran-sm-4/
LOCATION:Halmstad Arena\, Växjövägen 11\, Halmstad\, 302 44
CATEGORIES:Mästerskap
ATTACH;FMTTYPE=image/png:https://sbtf.se/wp-content/uploads/2026/03/VSM-LOGO.png
ORGANIZER;CN="SBTF":MAILTO:info@sbtf.se
END:VEVENT
BEGIN:VEVENT
DTSTART;TZID=Europe/Stockholm:20260627T090000
DTEND;TZID=Europe/Stockholm:20260628T170000
DTSTAMP:20260423T104307
CREATED:20260323T103824Z
LAST-MODIFIED:20260323T103824Z
UID:48641-1782550800-1782666000@sbtf.se
SUMMARY:Para-SM
DESCRIPTION:Para-SM avgörs som en del av SM-veckan i Karlstad. \nMer information hittas här 
URL:https://sbtf.se/kalender/para-sm/
LOCATION:Sundsta Sporthall\, Drottning Kristinas väg 3\, Karlstad\, 65453\, Sweden
CATEGORIES:Mästerskap
ATTACH;FMTTYPE=image/png:https://sbtf.se/wp-content/uploads/2026/03/PARA-SM-LOGO.png
ORGANIZER;CN="SBTF":MAILTO:info@sbtf.se
END:VEVENT
END:VCALENDAR